Workbook
Name __xlfn_BAHTTEXT: #N/A
Name __xlfn_IFERROR: #N/A
Name Excel_BuiltIn__FilterDatabase: Brutto!$A$9:$K$9
Name Excel_BuiltIn__FilterDatabase: Netto!$B$9:$L$9

Sheet Netto
A6: Informacja z otwarcia - postępowanie 7/ZP/2021
B8: Nazwy i adresy wykonawców | C8: ASEPT Sp. z o.o. Siedziba: ul. Warszawska 12A 06- 300 Przasnysz | D8: Bialmed Sp. z o.o. Siedziba: ul. Kazimierzowska 46/48/35 02-546 Warszawa | E8: Billmed Sp. z o.o Siedziba: ul. Krypska 24/1, 04-082 Warszawa | F8: BOXMET MEDICAL Sp. z o. o. Siedziba: Piskorzów 51, 58-250 Pieszyce | G8: Camedica spółka cywilna Siedziba: ul. Kościelna 30, 21-210 Milanów | H8: Covimed Sp. z o.o Siedziba: Ul. Przelot 10 04-622 Warszawa | I8: EMED SP. Z O. O. SP. K. Siedziba: ul. Ryżowa 69A, 05-816 Opacz Kolonia | J8: EP-P spółka z ograniczoną odpowiedzialnością spółka komandytowa Siedziba: ul. Lipowa 1c, 55-200 Oława | K8: Hebu Medical Polska Sp.z o.o. Siedziba: ul.Kobylnicka 2a Sady 62-080 | L8: Lencomm Trade International Sp. z o.o. Siedziba: Wólczyńska 133 01-919 Warszawa | M8: MEDICAVERA Sp z o o Dahlhausen Group Siedziba: ul Majowa 2 71-374 Szczecin | N8: POLMIL SP. Z O.O.S.K.A. Siedziba: PRZEMYSŁOWA 8B BYDGOSZCZ 85-758 | O8: Krajowe Towarzystwo Gospodarcze Semigat SA Siedziba: 03-450 Warszawa, ul. Ratuszowa 11 | P8: SORIMEX Sp. z o. o. Sp. k. Siedziba; ul. Równinna 25 87-100 Toruń | Q8: Stryker Polska Sp. z o.o. Siedziba: Ul. Poleczki 35, 02-822 Warszawa | R8: SUN-MED Spółka Cywilna Dominik Siekierski Sławomir Naparty Siedziba: ul. Franciszkańska 104/112, 91-845 Łódź | S8: TESA Teresa Woźniewska Siedziba: 02-495 Warszawa, Kuźnicy Kołłątajowskiej 32 | T8: Konsorcjum: Citonet-Szczecin Sp. z o.o. – Lider, Toruńskie Zakłady Materiałów Opatrunkowych S.A. - Członek Siedziba: ul. Rolna 4, 71-730 Szczecin – Lider, ul. Żółkiewskiego 20/26, 87-100 Toruń - Członek | U8: Varimed Sp. z o.o. Siedziba: Ul. Tadeusza Kościuszki 115/4U, 50-442 Wrocław | V8: ZARYS International Group spółka z ograniczoną odpowiedzialnością spółka komandytowa Siedziba: ul. Pod Borem 18, 41-808 Zabrze
B9: Nr oferty | C9: 1 | D9: 2 | E9: 3 | F9: 4 | G9: 5 | H9: 6 | I9: 7 | J9: 8 | K9: 9 | L9: 10 | M9: 11 | N9: 12 | O9: 13 | P9: 14 | Q9: 15 | R9: 16 | S9: 17 | T9: 18 | U9: 19 | V9: 20
A10: Wartość szacunkowa netto, jaką Zamawiający zamierza przeznaczyc na realizację zamówienia | B10: Nr części postępowania | C10: netto | D10: netto | E10: netto | F10: netto | G10: netto | H10: netto | I10: netto | J10: netto | K10: netto | L10: netto | M10: netto | N10: netto | O10: netto | P10: netto | Q10: netto | R10: netto | S10: netto | T10: netto | U10: netto | V10: netto | W10: Wartość oferty najkorzystniejszej cenowo (wartość netto) | X10: Stosunek procenowy oferty najkorzystniejszej do wartości szacunkowej netto | Y10: Stosunek procenowy oferty najkorzystniejszej do wartości śrdniej arytmetycznej ofert netto
A11: 29520 | B11: 1 | D11: 25734 | W11: =MIN(C11:V11) -> 25734 | X11: =W11/A11 -> 0.87174797 | Y11: =IFERROR(W11/(AVERAGE(C11:V11)),"brak ofert") -> 1
A12: 1250 | B12: 2 | W12: =MIN(C12:V12) -> 0 | X12: =W12/A12 -> 0 | Y12: =IFERROR(W12/(AVERAGE(C12:V12)),"brak ofert") -> brak ofert
A13: 7694 | B13: 3 | W13: =MIN(C13:V13) -> 0 | X13: =W13/A13 -> 0 | Y13: =IFERROR(W13/(AVERAGE(C13:V13)),"brak ofert") -> brak ofert
A14: 51363 | B14: 4 | Q14: 51680 | W14: =MIN(C14:V14) -> 51680 | X14: =W14/A14 -> 1.0061718 | Y14: =IFERROR(W14/(AVERAGE(C14:V14)),"brak ofert") -> 1
A15: 5897 | B15: 5 | I15: 7694 | K15: 5580 | W15: =MIN(C15:V15) -> 5580 | X15: =W15/A15 -> 0.94624385 | Y15: =IFERROR(W15/(AVERAGE(C15:V15)),"brak ofert") -> 0.8407413
A16: 800 | B16: 6 | R16: 400 | W16: =MIN(C16:V16) -> 400 | X16: =W16/A16 -> 0.5 | Y16: =IFERROR(W16/(AVERAGE(C16:V16)),"brak ofert") -> 1
A17: 16442 | B17: 7 | W17: =MIN(C17:V17) -> 0 | X17: =W17/A17 -> 0 | Y17: =IFERROR(W17/(AVERAGE(C17:V17)),"brak ofert") -> brak ofert
A18: 5140 | B18: 8 | R18: 2920 | W18: =MIN(C18:V18) -> 2920 | X18: =W18/A18 -> 0.56809339 | Y18: =IFERROR(W18/(AVERAGE(C18:V18)),"brak ofert") -> 1
A19: 33834 | B19: 9 | G19: 32490 | J19: 30041.6 | R19: 42870 | S19: 37177 | U19: 35710 | W19: =MIN(C19:V19) -> 30041.6 | X19: =W19/A19 -> 0.88791157 | Y19: =IFERROR(W19/(AVERAGE(C19:V19)),"brak ofert") -> 0.84249918
A20: 3765 | B20: 10 | G20: 3750 | J20: 2670 | R20: 3150 | U20: 3870 | W20: =MIN(C20:V20) -> 2670 | X20: =W20/A20 -> 0.70916335 | Y20: =IFERROR(W20/(AVERAGE(C20:V20)),"brak ofert") -> 0.79464286
A21: 2800 | B21: 11 | G21: 1760 | J21: 1798.4 | R21: 3200 | S21: 2100 | W21: =MIN(C21:V21) -> 1760 | X21: =W21/A21 -> 0.62857143 | Y21: =IFERROR(W21/(AVERAGE(C21:V21)),"brak ofert") -> 0.79472591
A22: 650 | B22: 12 | R22: 235 | W22: =MIN(C22:V22) -> 235 | X22: =W22/A22 -> 0.36153846 | Y22: =IFERROR(W22/(AVERAGE(C22:V22)),"brak ofert") -> 1
A23: 2400 | B23: 13 | D23: 2625 | L23: 2392.5 | U23: 3150 | W23: =MIN(C23:V23) -> 2392.5 | X23: =W23/A23 -> 0.996875 | Y23: =IFERROR(W23/(AVERAGE(C23:V23)),"brak ofert") -> 0.87878788
A24: 2700 | B24: 14 | W24: =MIN(C24:V24) -> 0 | X24: =W24/A24 -> 0 | Y24: =IFERROR(W24/(AVERAGE(C24:V24)),"brak ofert") -> brak ofert
A25: 129 | B25: 15 | W25: =MIN(C25:V25) -> 0 | X25: =W25/A25 -> 0 | Y25: =IFERROR(W25/(AVERAGE(C25:V25)),"brak ofert") -> brak ofert
A26: 2620 | B26: 16 | E26: 1940 | W26: =MIN(C26:V26) -> 1940 | X26: =W26/A26 -> 0.74045802 | Y26: =IFERROR(W26/(AVERAGE(C26:V26)),"brak ofert") -> 1
A27: 8182 | B27: 17 | W27: =MIN(C27:V27) -> 0 | X27: =W27/A27 -> 0 | Y27: =IFERROR(W27/(AVERAGE(C27:V27)),"brak ofert") -> brak ofert
A28: 4340 | B28: 18 | W28: =MIN(C28:V28) -> 0 | X28: =W28/A28 -> 0 | Y28: =IFERROR(W28/(AVERAGE(C28:V28)),"brak ofert") -> brak ofert
A29: 7800 | B29: 19 | W29: =MIN(C29:V29) -> 0 | X29: =W29/A29 -> 0 | Y29: =IFERROR(W29/(AVERAGE(C29:V29)),"brak ofert") -> brak ofert
A30: 675 | B30: 20 | W30: =MIN(C30:V30) -> 0 | X30: =W30/A30 -> 0 | Y30: =IFERROR(W30/(AVERAGE(C30:V30)),"brak ofert") -> brak ofert
A31: 6138 | B31: 21 | M31: 5290 | W31: =MIN(C31:V31) -> 5290 | X31: =W31/A31 -> 0.86184425 | Y31: =IFERROR(W31/(AVERAGE(C31:V31)),"brak ofert") -> 1
A32: 9055 | B32: 22 | C32: 10890.5 | W32: =MIN(C32:V32) -> 10890.5 | X32: =W32/A32 -> 1.2027057 | Y32: =IFERROR(W32/(AVERAGE(C32:V32)),"brak ofert") -> 1
A33: 880 | B33: 23 | W33: =MIN(C33:V33) -> 0 | X33: =W33/A33 -> 0 | Y33: =IFERROR(W33/(AVERAGE(C33:V33)),"brak ofert") -> brak ofert
A34: 795 | B34: 24 | M34: 1265 | W34: =MIN(C34:V34) -> 1265 | X34: =W34/A34 -> 1.591195 | Y34: =IFERROR(W34/(AVERAGE(C34:V34)),"brak ofert") -> 1
A35: 11294 | B35: 25 | W35: =MIN(C35:V35) -> 0 | X35: =W35/A35 -> 0 | Y35: =IFERROR(W35/(AVERAGE(C35:V35)),"brak ofert") -> brak ofert
A36: 625 | B36: 26 | W36: =MIN(C36:V36) -> 0 | X36: =W36/A36 -> 0 | Y36: =IFERROR(W36/(AVERAGE(C36:V36)),"brak ofert") -> brak ofert
A37: 25467.3 | B37: 27 | W37: =MIN(C37:V37) -> 0 | X37: =W37/A37 -> 0 | Y37: =IFERROR(W37/(AVERAGE(C37:V37)),"brak ofert") -> brak ofert
A38: 25769.2 | B38: 28 | D38: 28396.4 | W38: =MIN(C38:V38) -> 28396.4 | X38: =W38/A38 -> 1.1019512 | Y38: =IFERROR(W38/(AVERAGE(C38:V38)),"brak ofert") -> 1
A39: 7166 | B39: 29 | D39: 6337.35 | V39: 6010.5 | W39: =MIN(C39:V39) -> 6010.5 | X39: =W39/A39 -> 0.83875244 | Y39: =IFERROR(W39/(AVERAGE(C39:V39)),"brak ofert") -> 0.9735298
A40: 645 | B40: 30 | W40: =MIN(C40:V40) -> 0 | X40: =W40/A40 -> 0 | Y40: =IFERROR(W40/(AVERAGE(C40:V40)),"brak ofert") -> brak ofert
A41: 1140 | B41: 31 | V41: 945 | W41: =MIN(C41:V41) -> 945 | X41: =W41/A41 -> 0.82894737 | Y41: =IFERROR(W41/(AVERAGE(C41:V41)),"brak ofert") -> 1
A42: 980 | B42: 32 | D42: 787 | F42: 2018.1 | W42: =MIN(C42:V42) -> 787 | X42: =W42/A42 -> 0.80306122 | Y42: =IFERROR(W42/(AVERAGE(C42:V42)),"brak ofert") -> 0.56112082
A43: 33591.5 | B43: 33 | D43: 31584.3 | W43: =MIN(C43:V43) -> 31584.3 | X43: =W43/A43 -> 0.94024679 | Y43: =IFERROR(W43/(AVERAGE(C43:V43)),"brak ofert") -> 1
A44: 122 | B44: 34 | V44: 145 | W44: =MIN(C44:V44) -> 145 | X44: =W44/A44 -> 1.1885246 | Y44: =IFERROR(W44/(AVERAGE(C44:V44)),"brak ofert") -> 1
A45: 7490 | B45: 35 | N45: 8148.5 | W45: =MIN(C45:V45) -> 8148.5 | X45: =W45/A45 -> 1.0879172 | Y45: =IFERROR(W45/(AVERAGE(C45:V45)),"brak ofert") -> 1
A46: 8400 | B46: 36 | D46: 2394 | T46: 2352 | V46: 2562 | W46: =MIN(C46:V46) -> 2352 | X46: =W46/A46 -> 0.28 | Y46: =IFERROR(W46/(AVERAGE(C46:V46)),"brak ofert") -> 0.96551724
A47: 1950 | B47: 37 | O47: 1035 | V47: 855 | W47: =MIN(C47:V47) -> 855 | X47: =W47/A47 -> 0.43846154 | Y47: =IFERROR(W47/(AVERAGE(C47:V47)),"brak ofert") -> 0.9047619
A48: 34074 | B48: 38 | N48: 33279.6 | V48: 24208 | W48: =MIN(C48:V48) -> 24208 | X48: =W48/A48 -> 0.71045372 | Y48: =IFERROR(W48/(AVERAGE(C48:V48)),"brak ofert") -> 0.84219901
A49: 14725 | B49: 39 | T49: 11652 | W49: =MIN(C49:V49) -> 11652 | X49: =W49/A49 -> 0.7913073 | Y49: =IFERROR(W49/(AVERAGE(C49:V49)),"brak ofert") -> 1
A50: 16159 | B50: 40 | T50: 15428.3 | W50: =MIN(C50:V50) -> 15428.3 | X50: =W50/A50 -> 0.95478062 | Y50: =IFERROR(W50/(AVERAGE(C50:V50)),"brak ofert") -> 1
A51: 2115 | B51: 41 | F51: 3547.5 | W51: =MIN(C51:V51) -> 3547.5 | X51: =W51/A51 -> 1.677305 | Y51: =IFERROR(W51/(AVERAGE(C51:V51)),"brak ofert") -> 1
A52: 2600 | B52: 42 | P52: 3299 | W52: =MIN(C52:V52) -> 3299 | X52: =W52/A52 -> 1.2688462 | Y52: =IFERROR(W52/(AVERAGE(C52:V52)),"brak ofert") -> 1
A53: 890 | B53: 43 | F53: 2215 | W53: =MIN(C53:V53) -> 2215 | X53: =W53/A53 -> 2.488764 | Y53: =IFERROR(W53/(AVERAGE(C53:V53)),"brak ofert") -> 1
A54: =SUM(A11:A53) -> 400072 | W54: =SUM(W11:W53) -> 282372.1

Sheet Brutto
A6: Informacja z otwarcia - postępowanie 7/ZP/2021
B8: Nazwy i adresy wykonawców | C8: =Netto!C8 -> ASEPT Sp. z o.o. Siedziba: ul. Warszawska 12A 06- 300 Przasnysz | D8: =Netto!D8 -> Bialmed Sp. z o.o. Siedziba: ul. Kazimierzowska 46/48/35 02-546 Warszawa | E8: =Netto!E8 -> Billmed Sp. z o.o Siedziba: ul. Krypska 24/1, 04-082 Warszawa | F8: =Netto!F8 -> BOXMET MEDICAL Sp. z o. o. Siedziba: Piskorzów 51, 58-250 Pieszyce | G8: =Netto!G8 -> Camedica spółka cywilna Siedziba: ul. Kościelna 30, 21-210 Milanów | H8: =Netto!H8 -> Covimed Sp. z o.o Siedziba: Ul. Przelot 10 04-622 Warszawa | I8: =Netto!I8 -> EMED SP. Z O. O. SP. K. Siedziba: ul. Ryżowa 69A, 05-816 Opacz Kolonia | J8: =Netto!J8 -> EP-P spółka z ograniczoną odpowiedzialnością spółka komandytowa Siedziba: ul. Lipowa 1c, 55-200 Oława | ... V8: =Netto!V8 -> ZARYS International Group spółka z ograniczoną odpowiedzialnością spółka komandytowa Siedziba: ul. Pod Borem 18, 41-808 Zabrze
B9: Nr oferty | C9: =Netto!C9 -> 1 | D9: =Netto!D9 -> 2 | E9: =Netto!E9 -> 3 | F9: =Netto!F9 -> 4 | G9: =Netto!G9 -> 5 | H9: =Netto!H9 -> 6 | I9: =Netto!I9 -> 7 | J9: =Netto!J9 -> 8 | ... V9: =Netto!V9 -> 20
A10: Wartość szacunkowa brutto, jaką Zamawiający zamierza przeznaczyc na realizację zamówienia | B10: Nr części postępowania | C10: brutto | D10: brutto | E10: brutto | F10: brutto | G10: brutto | H10: brutto | I10: brutto | J10: brutto | K10: brutto | L10: brutto | M10: brutto | N10: brutto | O10: brutto | P10: brutto | Q10: brutto | R10: brutto | S10: brutto | T10: brutto | U10: brutto | V10: brutto
A11: 31881.6 | B11: 1 | D11: 27792.72
A12: 1537.5 | B12: 2
A13: 8309.52 | B13: 3
A14: 55472.04 | B14: 4 | Q14: 55814
A15: 6368.76 | B15: 5 | I15: 8309.52 | K15: 6026.4
A16: 864 | B16: 6 | R16: 432
A17: 17757.36 | B17: 7
A18: 5551.2 | B18: 8 | R18: 3153.6
A19: 36540.72 | B19: 9 | G19: 35089.2 | J19: 32444.93 | R19: 46299.6 | S19: 40151.16 | U19: 38566.8
A20: 4066.2 | B20: 10 | G20: 4050 | J20: 2883.6 | R20: 3402 | U20: 4179.6
A21: 3024 | B21: 11 | G21: 1900.8 | J21: 1942.27 | R21: 3456 | S21: 2268
A22: 702 | B22: 12 | R22: 253.8
A23: 2592 | B23: 13 | D23: 2835 | L23: 2589.9 | U23: 3402
A24: 2916 | B24: 14
A25: 139.32 | B25: 15
A26: 2829.6 | B26: 16 | E26: 2095.2
A27: 8836.56 | B27: 17
A28: 4687.2 | B28: 18
A29: 8424 | B29: 19
A30: 729 | B30: 20
A31: 6629.04 | B31: 21 | M31: 5713.2
A32: 9779.4 | B32: 22 | C32: 11761.74
A33: 950.4 | B33: 23
A34: 858.6 | B34: 24 | M34: 1366.2
A35: 12197.52 | B35: 25
A36: 675 | B36: 26
A37: 27504.684 | B37: 27
A38: 27830.736 | B38: 28 | D38: 30668.1
A39: 7739.28 | B39: 29 | D39: 6844.34 | V39: 6491.34
A40: 696.6 | B40: 30
A41: 1231.2 | B41: 31 | V41: 1020.6
A42: 1058.4 | B42: 32 | D42: 849.96 | F42: 2179.55
A43: 36278.82 | B43: 33 | D43: 38848.69
A44: 131.76 | B44: 34 | V44: 156.6
A45: 8089.2 | B45: 35 | N45: 8800.38
A46: 9072 | B46: 36 | D46: 2585.52 | T46: 2540.16 | V46: 2766.96
A47: 2106 | B47: 37 | O47: 1117.8 | V47: 923.4
A48: 36799.92 | B48: 38 | N48: 35941.97 | V48: 26144.64
A49: 15903 | B49: 39 | T49: 12234.6
A50: 17451.72 | B50: 40 | T50: 16662.56
A51: 2284.2 | B51: 41 | F51: 3831.3
A52: 2808 | B52: 42 | P52: 3562.92
A53: 961.2 | B53: 43 | F53: 2392.2
A54: 432265.26
