Workbook
Name __xlfn_BAHTTEXT: #N/A
Name __xlfn_IFERROR: #N/A
Name Excel_BuiltIn__FilterDatabase: Brutto!$A$9:$K$9
Name Excel_BuiltIn__FilterDatabase: Netto!$B$9:$K$9

Sheet Netto
A6: Informacja z otwarcia - postępowanie ZP/9/2021
B8: Nazwy i adresy wykonawców | C8: =Brutto!C8 -> Nazwa: Beryl Med Poland Sp. z o.o. Siedziba: ul. Łopuszańska 36, bud.14C, 02-220 Warszawa | D8: =Brutto!D8 -> Nazwa: BIAMEDITEK SP. Z O.O. Siedziba: UL. ELEWATORSKA 58, 15-620 BIAŁYSTOK | E8: Nazwa: Centrum Zaopatrzenia Medycznego „Cezal” S.A.- Wrocław Siedziba: ul. Widna 4, 50-543 Wrocław | F8: =Brutto!F8 -> Nazwa: Covimed Sp. z o.o . Siedziba: ul. Przelot 10, 04-622 Warszawa * | G8: =Brutto!G8 -> Nazwa: MEDELA POLSKA SP. Z O.O. Siedziba: UL. WYBRZEŻE GDYŃSKIE 6D, 01-531 WARSZAWA * | H8: =Brutto!H8 -> Nazwa: DUOLUX MEDICAL SP. Z O.O. Siedziba: OS. B. CHROBREGO 40F/53, 60-681 POZNAŃ | I8: =Brutto!I8 -> Nazwa: MEDICAVERA Sp z o o Dahlhausen Group Siedziba: ul Majowa 2 71-374 Szczecin | J8: =Brutto!J8 -> Nazwa: Sinmed Sp. z o. o. Siedziba: ul. Graniczna 32B, 44-178 Przyszowice | K8: Nazwa ZARYS International Group spółka z ograniczoną odpowiedzialnością spółka komandytowa Siedziba ul. Pod Borem 18, 41-808 Zabrze
B9: Nr oferty | C9: 1 | D9: 2 | E9: 3 | F9: 4 | G9: 5 | H9: 6 | I9: 7 | J9: 8 | K9: 9
A10: Wartość szacunkowa netto, jaką Zamawiający zamierza przeznaczyc na realizację zamówienia | B10: Nr części postępowania | C10: netto | D10: netto | E10: netto | F10: netto | G10: netto | H10: netto | I10: netto | J10: netto | K10: netto | L10: Wartość oferty najkorzystniejszej cenowo (wartość netto) | M10: Stosunek procenowy oferty najkorzystniejszej do wartości szacunkowej netto | N10: Stosunek procenowy oferty najkorzystniejszej do wartości śrdniej arytmetycznej ofert netto | O10: Liczba ofert
A11: 750 | B11: 1 | D11: 356.7 | L11: =MIN(C11:K11) -> 356.7 | M11: =L11/A11 -> 0.4756 | N11: =IFERROR(L11/(AVERAGE(C11:K11)),"brak ofert") -> 1 | O11: =COUNTA(C11:K11) -> 1 | P11: 1
A12: 7694 | B12: 2 | F12: 8542 | L12: =MIN(C12:K12) -> 8542 | M12: =L12/A12 -> 1.1102158 | N12: =IFERROR(L12/(AVERAGE(C12:K12)),"brak ofert") -> 1 | O12: =COUNTA(C12:K12) -> 1 | P12: 2
A13: 16442 | B13: 3 | L13: =MIN(C13:K13) -> 0 | M13: =L13/A13 -> 0 | N13: =IFERROR(L13/(AVERAGE(C13:K13)),"brak ofert") -> brak ofert | O13: =COUNTA(C13:K13) -> 0 | P13: 3
A14: 1800 | B14: 4 | L14: =MIN(C14:K14) -> 0 | M14: =L14/A14 -> 0 | N14: =IFERROR(L14/(AVERAGE(C14:K14)),"brak ofert") -> brak ofert | O14: =COUNTA(C14:K14) -> 0 | P14: 4
A15: 129 | B15: 5 | L15: =MIN(C15:K15) -> 0 | M15: =L15/A15 -> 0 | N15: =IFERROR(L15/(AVERAGE(C15:K15)),"brak ofert") -> brak ofert | O15: =COUNTA(C15:K15) -> 0 | P15: 5
A16: 8155 | B16: 6 | C16: 7962 | H16: 5348.8 | L16: =MIN(C16:K16) -> 5348.8 | M16: =L16/A16 -> 0.65589209 | N16: =IFERROR(L16/(AVERAGE(C16:K16)),"brak ofert") -> 0.80367822 | O16: =COUNTA(C16:K16) -> 2 | P16: 6
A17: 5530 | B17: 7 | G17: 5810 | L17: =MIN(C17:K17) -> 5810 | M17: =L17/A17 -> 1.0506329 | N17: =IFERROR(L17/(AVERAGE(C17:K17)),"brak ofert") -> 1 | O17: =COUNTA(C17:K17) -> 1 | P17: 7
A18: 7800 | B18: 8 | L18: =MIN(C18:K18) -> 0 | M18: =L18/A18 -> 0 | N18: =IFERROR(L18/(AVERAGE(C18:K18)),"brak ofert") -> brak ofert | O18: =COUNTA(C18:K18) -> 0 | P18: 8
A19: 675 | B19: 9 | L19: =MIN(C19:K19) -> 0 | M19: =L19/A19 -> 0 | N19: =IFERROR(L19/(AVERAGE(C19:K19)),"brak ofert") -> brak ofert | O19: =COUNTA(C19:K19) -> 0 | P19: 9
A20: 880 | B20: 10 | L20: =MIN(C20:K20) -> 0 | M20: =L20/A20 -> 0 | N20: =IFERROR(L20/(AVERAGE(C20:K20)),"brak ofert") -> brak ofert | O20: =COUNTA(C20:K20) -> 0 | P20: 10
A21: 1580 | B21: 11 | I21: 1320 | L21: =MIN(C21:K21) -> 1320 | M21: =L21/A21 -> 0.83544304 | N21: =IFERROR(L21/(AVERAGE(C21:K21)),"brak ofert") -> 1 | O21: =COUNTA(C21:K21) -> 1 | P21: 11
A22: 4350 | B22: 12 | D22: 3245 | J22: 3310 | K22: 4705 | L22: =MIN(C22:K22) -> 3245 | M22: =L22/A22 -> 0.74597701 | N22: =IFERROR(L22/(AVERAGE(C22:K22)),"brak ofert") -> 0.86456483 | O22: =COUNTA(C22:K22) -> 3 | P22: 12
A23: 13494 | B23: 13 | D23: 12367.7 | J23: 11881.73 | L23: =MIN(C23:K23) -> 11881.73 | M23: =L23/A23 -> 0.88051949 | N23: =IFERROR(L23/(AVERAGE(C23:K23)),"brak ofert") -> 0.97995953 | O23: =COUNTA(C23:K23) -> 2 | P23: 13
A24: 625 | B24: 14 | L24: =MIN(C24:K24) -> 0 | M24: =L24/A24 -> 0 | N24: =IFERROR(L24/(AVERAGE(C24:K24)),"brak ofert") -> brak ofert | O24: =COUNTA(C24:K24) -> 0 | P24: 14
A25: 25240.47 | B25: 15 | K25: 19432.84 | L25: =MIN(C25:K25) -> 19432.84 | M25: =L25/A25 -> 0.76990801 | N25: =IFERROR(L25/(AVERAGE(C25:K25)),"brak ofert") -> 1 | O25: =COUNTA(C25:K25) -> 1 | P25: 15
A26: 635 | B26: 16 | K26: 377.6 | L26: =MIN(C26:K26) -> 377.6 | M26: =L26/A26 -> 0.59464567 | N26: =IFERROR(L26/(AVERAGE(C26:K26)),"brak ofert") -> 1 | O26: =COUNTA(C26:K26) -> 1 | P26: 16
A27: 4685 | B27: 17 | E27: 3048.06 | L27: =MIN(C27:K27) -> 3048.06 | M27: =L27/A27 -> 0.65059979 | N27: =IFERROR(L27/(AVERAGE(C27:K27)),"brak ofert") -> 1 | O27: =COUNTA(C27:K27) -> 1 | P27: 17
A28: 2215 | B28: 18 | K28: 625 | L28: =MIN(C28:K28) -> 625 | M28: =L28/A28 -> 0.28216704 | N28: =IFERROR(L28/(AVERAGE(C28:K28)),"brak ofert") -> 1 | O28: =COUNTA(C28:K28) -> 1 | P28: 18
A29: 148.5 | B29: 19 | L29: =MIN(C29:K29) -> 0 | M29: =L29/A29 -> 0 | N29: =IFERROR(L29/(AVERAGE(C29:K29)),"brak ofert") -> brak ofert | O29: =COUNTA(C29:K29) -> 0 | P29: 19
A30: =SUM(A11:A29) -> 102827.97 | L30: =SUM(L11:L29) -> 59987.73 | P30: 1

Sheet Brutto
A6: Informacja z otwarcia - postępowanie ZP/9/2021
B8: Nazwy i adresy wykonawców | C8: Nazwa: Beryl Med Poland Sp. z o.o. Siedziba: ul. Łopuszańska 36, bud.14C, 02-220 Warszawa | D8: Nazwa: BIAMEDITEK SP. Z O.O. Siedziba: UL. ELEWATORSKA 58, 15-620 BIAŁYSTOK | E8: Nazwa: Centrum Zaopatrzenia Medycznego „Cezal” S.A.- Wrocław Siedziba: ul. Widna 4, 50-543 Wrocław | F8: Nazwa: Covimed Sp. z o.o . Siedziba: ul. Przelot 10, 04-622 Warszawa * | G8: Nazwa: MEDELA POLSKA SP. Z O.O. Siedziba: UL. WYBRZEŻE GDYŃSKIE 6D, 01-531 WARSZAWA * | H8: Nazwa: DUOLUX MEDICAL SP. Z O.O. Siedziba: OS. B. CHROBREGO 40F/53, 60-681 POZNAŃ | I8: Nazwa: MEDICAVERA Sp z o o Dahlhausen Group Siedziba: ul Majowa 2 71-374 Szczecin | J8: Nazwa: Sinmed Sp. z o. o. Siedziba: ul. Graniczna 32B, 44-178 Przyszowice | K8: Nazwa ZARYS International Group spółka z ograniczoną odpowiedzialnością spółka komandytowa Siedziba ul. Pod Borem 18, 41-808 Zabrze
B9: Nr oferty | C9: =Netto!C9 -> 1 | D9: =Netto!D9 -> 2 | E9: =Netto!E9 -> 3 | F9: =Netto!F9 -> 4 | G9: =Netto!G9 -> 5 | H9: =Netto!H9 -> 6 | I9: =Netto!I9 -> 7 | J9: =Netto!J9 -> 8 | K9: =Netto!K9 -> 9
A10: Wartość szacunkowa brutto, jaką Zamawiający zamierza przeznaczyc na realizację zamówienia | B10: Nr części postępowania | C10: brutto | D10: brutto | E10: brutto | F10: brutto | G10: brutto | H10: brutto | I10: brutto | J10: brutto | K10: brutto | L10: Wartość oferty najkorzystniejszej cenowo (wartość netto) | M10: Stosunek procenowy oferty najkorzystniejszej do wartości szacunkowej netto | N10: Stosunek procenowy oferty najkorzystniejszej do wartości śrdniej arytmetycznej ofert netto
A11: 922.5 | B11: 1 | D11: 385.24 | L11: =MIN(C11:K11) -> 385.24 | M11: =L11/A11 -> 0.41760434 | N11: =IFERROR(L11/(AVERAGE(C11:K11)),"brak ofert") -> 1
A12: 8309.52 | B12: 2 | F12: 9134.16 | L12: =MIN(C12:K12) -> 9134.16 | M12: =L12/A12 -> 1.0992404 | N12: =IFERROR(L12/(AVERAGE(C12:K12)),"brak ofert") -> 1
A13: 17757.36 | B13: 3 | L13: =MIN(C13:K13) -> 0 | M13: =L13/A13 -> 0 | N13: =IFERROR(L13/(AVERAGE(C13:K13)),"brak ofert") -> brak ofert
A14: 1944 | B14: 4 | L14: =MIN(C14:K14) -> 0 | M14: =L14/A14 -> 0 | N14: =IFERROR(L14/(AVERAGE(C14:K14)),"brak ofert") -> brak ofert
A15: 139.32 | B15: 5 | L15: =MIN(C15:K15) -> 0 | M15: =L15/A15 -> 0 | N15: =IFERROR(L15/(AVERAGE(C15:K15)),"brak ofert") -> brak ofert
A16: 8807.4 | B16: 6 | C16: 8598.96 | H16: 5776.7 | L16: =MIN(C16:K16) -> 5776.7 | M16: =L16/A16 -> 0.65589164 | N16: =IFERROR(L16/(AVERAGE(C16:K16)),"brak ofert") -> 0.80367788
A17: 5972.4 | B17: 7 | G17: 6229.2 | L17: =MIN(C17:K17) -> 6229.2 | M17: =L17/A17 -> 1.0429978 | N17: =IFERROR(L17/(AVERAGE(C17:K17)),"brak ofert") -> 1
A18: 8424 | B18: 8 | L18: =MIN(C18:K18) -> 0 | M18: =L18/A18 -> 0 | N18: =IFERROR(L18/(AVERAGE(C18:K18)),"brak ofert") -> brak ofert
A19: 729 | B19: 9 | L19: =MIN(C19:K19) -> 0 | M19: =L19/A19 -> 0 | N19: =IFERROR(L19/(AVERAGE(C19:K19)),"brak ofert") -> brak ofert
A20: 950.4 | B20: 10 | L20: =MIN(C20:K20) -> 0 | M20: =L20/A20 -> 0 | N20: =IFERROR(L20/(AVERAGE(C20:K20)),"brak ofert") -> brak ofert
A21: 1706.4 | B21: 11 | I21: 1425.6 | L21: =MIN(C21:K21) -> 1425.6 | M21: =L21/A21 -> 0.83544304 | N21: =IFERROR(L21/(AVERAGE(C21:K21)),"brak ofert") -> 1
A22: 4698 | B22: 12 | D22: 3504.6 | J22: 3574.8 | K22: 5081.4 | L22: =MIN(C22:K22) -> 3504.6 | M22: =L22/A22 -> 0.74597701 | N22: =IFERROR(L22/(AVERAGE(C22:K22)),"brak ofert") -> 0.86456483
A23: 14573.52 | B23: 13 | D23: 13357.12 | J23: 11881.73 | L23: =MIN(C23:K23) -> 11881.73 | M23: =L23/A23 -> 0.81529582 | N23: =IFERROR(L23/(AVERAGE(C23:K23)),"brak ofert") -> 0.9415429
A24: 675 | B24: 14 | L24: =MIN(C24:K24) -> 0 | M24: =L24/A24 -> 0 | N24: =IFERROR(L24/(AVERAGE(C24:K24)),"brak ofert") -> brak ofert
A25: 27259.708 | B25: 15 | K25: 20987.47 | L25: =MIN(C25:K25) -> 20987.47 | M25: =L25/A25 -> 0.76990811 | N25: =IFERROR(L25/(AVERAGE(C25:K25)),"brak ofert") -> 1
A26: 685.8 | B26: 16 | K26: 407.81 | L26: =MIN(C26:K26) -> 407.81 | M26: =L26/A26 -> 0.59464859 | N26: =IFERROR(L26/(AVERAGE(C26:K26)),"brak ofert") -> 1
A27: 5059.8 | B27: 17 | E27: 3328.93 | L27: =MIN(C27:K27) -> 3328.93 | M27: =L27/A27 -> 0.65791731 | N27: =IFERROR(L27/(AVERAGE(C27:K27)),"brak ofert") -> 1
A28: 2392.2 | B28: 18 | K28: 675 | L28: =MIN(C28:K28) -> 675 | M28: =L28/A28 -> 0.28216704 | N28: =IFERROR(L28/(AVERAGE(C28:K28)),"brak ofert") -> 1
A29: 160.38 | B29: 19 | L29: =MIN(C29:K29) -> 0 | M29: =L29/A29 -> 0 | N29: =IFERROR(L29/(AVERAGE(C29:K29)),"brak ofert") -> brak ofert
A30: =SUM(A11:A29) -> 111166.71 | L30: =SUM(L11:L29) -> 63736.44
