Workbook
Name __xlfn_BAHTTEXT: #N/A
Name __xlfn_IFERROR: #N/A
Name Excel_BuiltIn__FilterDatabase: Brutto!$A$9:$V$9
Name Excel_BuiltIn__FilterDatabase: Netto!$A$9:$V$9

Sheet Netto
A1: Informacja z otwarcia ofert ZP/4/2022
A6: Informacja z otwarcia ofert ZP/14/2022
A8: Nazwy i adresy wykonawców | B8: Asept Sp. z o.o. Siedziba: ul. Warszawska 12A 06-300 Przasnysz | C8: Bialmed Sp. z o.o. Siedziba: ul. Kazimierzowska 46/48/35, 02-546 Warszawa | D8: Billmed Sp. z o.o Siedziba: ul. Krypska 24/1, 04-082 Warszawa | E8: Boxmet m,edical Sp. z o.o. Siedziba: Piskorzów 51, 58-250 Pieszyce | F8: Camedica spółka cywilna Siedziba: ul. Kościelna 30, 21-210 Milanów | G8: EMED SP. Z O. O. SP. K. Siedziba: ul. Ryżowa 69A, 05-816 Opacz Kolonia | H8: Empireum Piotr Dopieralski Siedziba: ul. Chotomowska 30, 05-110 Jabłonna | I8: EM POLAND Sp. z o.o. Siedziba: ul. Aleja Piłsudskiego 63, 05-070 Sulejówek | J8: EP-P Spółka z ograniczoną odpowiedzialnością spółka komandytowa Siedziba: 55-200 Oława, ul. Lipowa 1c, | K8: Hebu Medical Polska Sp.z o.o. Siedziba: ul. Kobylnicka 2a 62-080 Sady | L8: Informer Med. Sp. z o.o. Siedziba: ul. Winogrady 118; 61-626 Poznań | M8: INTERGOS Sp. z o.o. Siedziba: ul. Legionów 55, 43-300 Bielsko-Biała | N8: MEDICAVERA Sp z o o Dahlhausen Group Siedziba:. ul Majowa 2 71- 374 Szczecin | O8: POLMIL SP. Z O.O. SKA Siedziba: UL.PRZEMYSŁOWA 8B 85-758 BYDGOSZCZ | P8: RAJ-SPA Magdalena Gołębiewska Siedziba: Warszawa, ul. Bagatela 10/14A, 00-585 | Q8: Sterimed Sp. z o.o. Siedziba: ul. Mała 6 lok. 208; 05-300 Mińsk Mazowiecki | R8: Stryker Polska Sp. z o.o. Siedziba: ul. Poleczki 35, 02-822 Warszawa | S8: SUN-MED Spółka Cywilna Dominik Siekierski Sławomir Naparty Siedziba: ul. Franciszkańska 104/112, 91-845 Łódź | T8: KONSORCJUM: CITONET-SZCZECIN SP. Z O.O. – LIDER, TORUŃSKIE ZAKŁADY MATERIAŁÓW OPATRUNKOWYCH S.A. - CZŁONEK Siedziba: UL. ROLNA 4, 71-730 SZCZECIN – LIDER, UL. ŻÓŁKIEWSKIEGO 20/26, 87-100 TORUŃ - CZŁONEK | U8: VARIMED Sp. z o.o. Siedziba: Ul. Tadeusza Kościuszki 115/4U, 50-442 Wrocław | V8: ZARYS International Group Sp. z o. o. Sp. k. Siedziba: Pod Borem 18, 41-808 Zabrze
A9: Nr oferty | B9: 1 | C9: 2 | D9: 3 | E9: 4 | F9: 5 | G9: 6 | H9: 7 | I9: 8* | J9: 9 | K9: 10 | L9: 11 | M9: 12 | N9: 13 | O9: 14 | P9: 15 | Q9: 16 | R9: 17 | S9: 18 | T9: 19 | U9: 20* | V9: 21
A10: Nr części postępowania | B10: netto | C10: netto | D10: netto | E10: netto | F10: netto | G10: netto | H10: netto | I10: netto | J10: netto | K10: netto | L10: netto | M10: netto | N10: netto | O10: netto | P10: netto | Q10: netto | R10: netto | S10: netto | T10: netto | U10: netto | V10: netto
A11: 1 | C11: 98361.95
A12: 2 | C12: 16488.5
A13: 3 | V13: 956.9
A14: 4 | B14: 14712.1 | D14: 17900
A15: 5 | N15: 3570
A16: 6 | C16: 10874.1
A17: 7 | C17: 41967.1
A18: 8 | V18: 1085
A19: 9 | C19: 7804.25
A20: 10 | C20: 1803 | V20: 2302.5
A21: 11 | C21: 12919.1 | O21: 13837.2 | V21: 12016
A22: 12 | V22: 188.25
A23: 13 | V23: 315
A24: 14
A25: 15
A26: 16
A27: 17
A28: 18
A29: 19 | V29: 990
A30: 20 | G30: 8382 | H30: 5921.4 | K30: 7220
A31: 21 | I31: 35303.5 | O31: 44677 | V31: 31187.5
A32: 22 | V32: 2416.55
A33: 23
A34: 24 | V34: 4080
A35: 25 | C35: 40389.5 | M35: 37539 | V35: 35684
A36: 26
A37: 27 | E37: 1054.9 | V37: 915
A38: 28 | R38: 146800
A39: 29 | L39: 1361 | Q39: 1785
A40: 30 | L40: 3200 | Q40: 2060
A41: 31 | L41: 912 | Q41: 1260
A42: 32 | T42: 7971.2
A43: 33 | L43: 1180 | T43: 1048.42
A44: 34 | L44: 7100 | T44: 7113.4
A45: 35 | L45: 2345 | T45: 2542.5
A46: 36 | C46: 3460 | P46: 3380
A47: 37 | F47: 42775 | J47: 40412.2 | S47: 58530 | U47: 46920
A48: 38 | F48: 3150 | S48: 2900 | U48: 2750
A49: 39
I50: * - dokonano korekty podsumowania kwoty netto | U50: * skorygowano omyłkę pisarską odnośnie nr części zgodnie ze złożonym formularzem asortymentowo - ilościowym.
T57: ,

Sheet Brutto
A1: Informacja z otwarcia ofert ZP/4/2022
A6: Informacja z otwarcia ofert ZP/14/2022
A8: Nazwy i adresy wykonawców | B8: =Netto!B8 -> Asept Sp. z o.o. Siedziba: ul. Warszawska 12A 06-300 Przasnysz | C8: =Netto!C8 -> Bialmed Sp. z o.o. Siedziba: ul. Kazimierzowska 46/48/35, 02-546 Warszawa | D8: =Netto!D8 -> Billmed Sp. z o.o Siedziba: ul. Krypska 24/1, 04-082 Warszawa | E8: =Netto!E8 -> Boxmet m,edical Sp. z o.o. Siedziba: Piskorzów 51, 58-250 Pieszyce | F8: =Netto!F8 -> Camedica spółka cywilna Siedziba: ul. Kościelna 30, 21-210 Milanów | G8: =Netto!G8 -> EMED SP. Z O. O. SP. K. Siedziba: ul. Ryżowa 69A, 05-816 Opacz Kolonia | H8: =Netto!H8 -> Empireum Piotr Dopieralski Siedziba: ul. Chotomowska 30, 05-110 Jabłonna | I8: =Netto!I8 -> EM POLAND Sp. z o.o. Siedziba: ul. Aleja Piłsudskiego 63, 05-070 Sulejówek | ... V8: =Netto!V8 -> ZARYS International Group Sp. z o. o. Sp. k. Siedziba: Pod Borem 18, 41-808 Zabrze
A9: Nr oferty | B9: 1 | C9: 2 | D9: 3 | E9: 4 | F9: 5 | G9: 6 | H9: 7 | I9: 8 | J9: 9 | K9: 10 | L9: 11 | M9: 12 | N9: 13 | O9: 14 | P9: 15 | Q9: 16 | R9: 17 | S9: 18 | T9: 19 | U9: 20* | V9: 21
A10: Nr części postępowania | B10: brutto | C10: brutto | D10: brutto | E10: brutto | F10: brutto | G10: brutto | H10: brutto | I10: brutto | J10: brutto | K10: brutto | L10: brutto | M10: brutto | N10: brutto | O10: brutto | P10: brutto | Q10: brutto | R10: brutto | S10: brutto | T10: brutto | U10: brutto | V10: brutto
A11: 1 | C11: 106230.91
A12: 2 | C12: 17807.58
A13: 3 | V13: 1033.45
A14: 4 | B14: 15889.06 | D14: 19332
A15: 5 | N15: 3855.6
A16: 6 | C16: 11754.15
A17: 7 | C17: 45324.47
A18: 8 | V18: 1171.8
A19: 9 | C19: 8428.59
A20: 10 | C20: 1947.24 | V20: 2486.7
A21: 11 | C21: 13952.63 | O21: 14944.18 | V21: 12977.28
A22: 12 | V22: 203.31
A23: 13 | V23: 340.2
A24: 14
A25: 15
A26: 16
A27: 17
A28: 18
A29: 19 | V29: 1069.2
A30: 20 | G30: 9052.56 | H30: 6395.11 | K30: 7797.6
A31: 21 | I31: 39110.28 | O31: 48251.16 | V31: 34344.9
A32: 22 | V32: 2609.88
A33: 23
A34: 24 | V34: 4406.4
A35: 25 | C35: 49679.09 | M35: 46172.97 | V35: 43891.32
A36: 26
A37: 27 | E37: 1139.29 | V37: 988.2
A38: 28 | R38: 158544
A39: 29 | L39: 1674.03 | Q39: 2195.55
A40: 30 | L40: 3936 | Q40: 2533.8
A41: 31 | L41: 1121.76 | Q41: 1549.8
A42: 32 | T42: 8608.9
A43: 33 | L43: 1274.4 | T43: 1132.29
A44: 34 | L44: 7668 | T44: 7682.46
A45: 35 | L45: 2532.6 | T45: 2745.9
A46: 36 | C46: 3736.8 | P46: 3650.4
A47: 37 | F47: 46197 | J47: 43645.18 | S47: 63212.4 | U47: 50673.6
A48: 38 | F48: 3402 | S48: 3132 | U48: 2970
A49: 39
U50: * skorygowano omyłkę pisarską odnośnie nr części 38 zgodnie ze złożonym formularzem asortymentowo - ilościowym.
