Workbook
Name __xlfn_BAHTTEXT: #N/A
Name __xlfn_IFERROR: #N/A
Name Excel_BuiltIn__FilterDatabase: Brutto!$B$4:$L$4
Name Excel_BuiltIn__FilterDatabase: Netto!$B$4:$L$4

Sheet Netto
A1: Informacja z otwarcia ofert ZP/26/2022
B3: Nazwy i adresy wykonawców | C3: Aesculap Chifa Sp z o.o. Siedziba: ul. Tysiąclecia 14, 64 300 Nowy Tomyśl | D3: Bialmed Sp.z.o.o. Siedziba: ul. Kazimierzowska 46/48/35 | E3: Billmed Sp. z o.o Siedziba: ul. Krypska 24/1, 04-082 Warszawa | F3: Bioti Sp. z o.o. Siedziba: 03-289 Warszawa, Ostródzka 196 | G3: BOXMET MEDICAL Sp. z o. o. Siedziba: Piskorzów 51, 8-250 Pieszyce | H3: Centrum Zaopatrzenia Medycznego „Cezal” S.A.- Wrocław Siedziba: ul. Widna 4, 50-543 Wrocław | I3: eMtiM Marek Mazurkiewicz Siedziba: ul. Andrzeja Struga 85/5, 41-800 Zabrze | J3: MEDICAVERA Sp z o o Dahlhausen Group Siedziba: ul Majowa 2 71- 374 | K3: Mikamed Sp. z o.o. ul. Bądkowskiego 41/7 80-137 Gdańsk | L3: SUN-MED Spółka Cywilna Dominik Siekierski Sławomir Naparty Siedziba: ul. Franciszkańska 104/112, 91-845 Łódź
B4: Nr oferty | C4: 1 | D4: 2 | E4: 3 | F4: 4 | G4: 5 | H4: 6 | I4: 1 | J4: 8 | K4: 9 | L4: 10
B5: Nr części postępowania | C5: netto | D5: netto | E5: netto | F5: netto | G5: netto | H5: netto | I5: netto | J5: netto | K5: netto | L5: netto | M5: Wartość oferty najkorzystniejszej cenowo (wartość netto)
A6: 5383 | B6: 1 | C6: 5327.1 | M6: =MIN(C6:L6) -> 5327.1
A7: 47474.04 | B7: 2 | C7: 46759.56 | M7: =MIN(C7:L7) -> 46759.56
A8: 14252.4 | B8: 3 | C8: 14030.16 | M8: =MIN(C8:L8) -> 14030.16
A9: 1560 | B9: 4 | L9: 1404 | M9: =MIN(C9:L9) -> 1404
A10: 700 | B10: 5 | L10: 308 | M10: =MIN(C10:L10) -> 308
A11: 9600 | B11: 6 | K11: 10670.76 | M11: =MIN(C11:L11) -> 10670.76
A12: 3058 | B12: 7 | L12: 3060 | M12: =MIN(C12:L12) -> 3060
A13: 750 | B13: 8 | E13: 1275 | M13: =MIN(C13:L13) -> 1275
A14: 750 | B14: 9 | D14: 253.2 | M14: =MIN(C14:L14) -> 253.2
A15: 480 | B15: 10 | M15: =MIN(C15:L15) -> 0
A16: 2400 | B16: 11 | D16: 2088 | H16: 3429.6 | M16: =MIN(C16:L16) -> 2088
A17: 1000 | B17: 12 | D17: 410 | M17: =MIN(C17:L17) -> 410
A18: 2980 | B18: 13 | M18: =MIN(C18:L18) -> 0
A19: 234 | B19: 14 | D19: 184 | M19: =MIN(C19:L19) -> 184
A20: 2946 | B20: 15 | F20: 3735 | G20: 4550 | H20: 3382.58 | I20: 3570.5 | M20: =MIN(C20:L20) -> 3382.58
A21: 7800 | B21: 16 | J21: 7380 | M21: =MIN(C21:L21) -> 7380
A22: =SUM(A6:A21) -> 101367.44

Sheet Brutto
A1: Informacja z otwarcia ofert ZP/26/2022
B3: Nazwy i adresy wykonawców | C3: =Netto!C3 -> Aesculap Chifa Sp z o.o. Siedziba: ul. Tysiąclecia 14, 64 300 Nowy Tomyśl | D3: =Netto!D3 -> Bialmed Sp.z.o.o. Siedziba: ul. Kazimierzowska 46/48/35 | E3: =Netto!E3 -> Billmed Sp. z o.o Siedziba: ul. Krypska 24/1, 04-082 Warszawa | F3: =Netto!F3 -> Bioti Sp. z o.o. Siedziba: 03-289 Warszawa, Ostródzka 196 | G3: =Netto!G3 -> BOXMET MEDICAL Sp. z o. o. Siedziba: Piskorzów 51, 8-250 Pieszyce | H3: =Netto!H3 -> Centrum Zaopatrzenia Medycznego „Cezal” S.A.- Wrocław Siedziba: ul. Widna 4, 50-543 Wrocław | I3: =Netto!I3 -> eMtiM Marek Mazurkiewicz Siedziba: ul. Andrzeja Struga 85/5, 41-800 Zabrze | J3: =Netto!J3 -> MEDICAVERA Sp z o o Dahlhausen Group Siedziba: ul Majowa 2 71- 374 | ... L3: =Netto!L3 -> SUN-MED Spółka Cywilna Dominik Siekierski Sławomir Naparty Siedziba: ul. Franciszkańska 104/112, 91-845 Łódź
B4: Nr oferty | C4: 1 | D4: 2 | E4: 3 | F4: 4 | G4: 5 | H4: 6 | I4: 7 | J4: 8 | K4: 9 | L4: 10
B5: Nr części postępowania | C5: brutto | D5: brutto | E5: brutto | F5: brutto | G5: brutto | H5: brutto | I5: brutto | J5: brutto | K5: brutto | L5: brutto | M5: Wartość oferty najkorzystniejszej cenowo (wartość brutto)
A6: 5813.64 | B6: 1 | C6: 5753.27 | M6: =MIN(C6:L6) -> 5753.27
A7: 51271.96 | B7: 2 | C7: 50500.32 | M7: =MIN(C7:L7) -> 50500.32
A8: 15392.59 | B8: 3 | C8: 15152.57 | M8: =MIN(C8:L8) -> 15152.57
A9: 1684.8 | B9: 4 | L9: 1516.32 | M9: =MIN(C9:L9) -> 1516.32
A10: 756 | B10: 5 | L10: 332.64 | M10: =MIN(C10:L10) -> 332.64
A11: 10368 | B11: 6 | K11: 11524.42 | M11: =MIN(C11:L11) -> 11524.42
A12: 3302.64 | B12: 7 | L12: 3304.8 | M12: =MIN(C12:L12) -> 3304.8
A13: 810 | B13: 8 | E13: 1377 | M13: =MIN(C13:L13) -> 1377
A14: 810 | B14: 9 | D14: 273.46 | M14: =MIN(C14:L14) -> 273.46
A15: 518.4 | B15: 10 | M15: =MIN(C15:L15) -> 0
A16: 2592 | B16: 11 | D16: 2255.04 | H16: 3703.97 | M16: =MIN(C16:L16) -> 2255.04
A17: 1080 | B17: 12 | D17: 442.8 | M17: =MIN(C17:L17) -> 442.8
A18: 3218.4 | B18: 13 | M18: =MIN(C18:L18) -> 0
A19: 252.72 | B19: 14 | D19: 198.72 | M19: =MIN(C19:L19) -> 198.72
A20: 3199.08 | B20: 15 | F20: 4033.8 | G20: 4914 | H20: 3674.53 | I20: 3887.34 | M20: =MIN(C20:L20) -> 3674.53
A21: 8424 | B21: 16 | J21: 7970.4 | M21: =MIN(C21:L21) -> 7970.4
A22: =SUM(A6:A21) -> 109494.23 | M22: =SUM(M6:M21) -> 104276.29
