Workbook
Name __xlfn_BAHTTEXT: #N/A
Name __xlfn_IFERROR: #N/A
Name Excel_BuiltIn__FilterDatabase: Brutto!$B$4:$I$4
Name Excel_BuiltIn__FilterDatabase: Netto!$B$4:$I$4

Sheet Netto
A1: Informacja z otwarcia ofert ZP/27/2022
B3: Nazwy i adresy wykonawców | C3: AKME Pałejko spółka jawna Siedziba: ul. Poloneza 89B, 02-826 Warszawa | D3: Billmed Sp. z o.o. Siedziba: ul. Krypska 24/1, 04-082 Warszawa | E3: Medicus Sp. z o.o.S.K.A. Siedziba: ul. Browarowa 21, 43-100 Tychy | F3: Mercator Medical S.A. Siedziba: ul. Modrzejewskiej 30, 31-327 Kraków | G3: SORIMEX Sp. z o.o. Sp.k. Siedziba: ul. Równinna 25 87-100 Toruń | H3: Skamex Spółka z ograniczoną odpowiedzialnością Siedziba: ul. Częstochowska 38/52, 93-121 Łódź | I3: ZARYS International Group sp. z o.o. sp.k. Siedziba: ul. Pod Borem 18, 41-808 Zabrze
B4: Nr oferty | C4: 1 | D4: 2 | E4: 3 | F4: 4 | G4: 5 | H4: 6 | I4: 7
A5: Kwota jaką Zamawiający zamierza przeznaczyć na sfinansowanie zamówienia (netto) | B5: Nr części postępowania | C5: netto | D5: netto | E5: netto | F5: netto | G5: netto | H5: netto | I5: netto | J5: Wartość oferty najkorzystniejszej cenowo (wartość netto)
A6: 4000 | B6: 1 | J6: brak ofert
A7: 1800 | B7: 2 | I7: 1620 | J7: =MIN(C7:I7) -> 1620
A8: 8500 | B8: 3 | C8: 8500 | J8: =MIN(C8:I8) -> 8500
A9: 600 | B9: 4 | E9: 540 | J9: =MIN(C9:I9) -> 540
A10: 1000 | B10: 5 | J10: brak ofert
A11: 3220 | B11: 6 | J11: brak ofert
A12: 2180 | B12: 7 | J12: brak ofert
A13: 5000 | B13: 8 | J13: brak ofert
A14: 1440 | B14: 9 | D14: 1620 | J14: =MIN(C14:I14) -> 1620
A15: 18000 | B15: 10 | D15: 16000 | J15: =MIN(C15:I15) -> 16000
A16: 78100 | B16: 11 | F16: 53430 | H16: 53230 | J16: =MIN(C16:I16) -> 53230
A17: 19600 | B17: 12 | F17: 17640 | G17: 18340 | H17: 21420 | J17: =MIN(C17:I17) -> 17640
A18: 2250 | B18: 13 | H18: 2000 | J18: =MIN(C18:I18) -> 2000
A19: 1380 | B19: 14 | F19: 1320 | J19: =MIN(C19:I19) -> 1320
A20: 23100 | B20: 15 | J20: brak ofert
A21: =SUM(A6:A20) -> 170170

Sheet Brutto
A1: Informacja z otwarcia ofert ZP/27/2022
B3: Nazwy i adresy wykonawców | C3: =Netto!C3 -> AKME Pałejko spółka jawna Siedziba: ul. Poloneza 89B, 02-826 Warszawa | D3: =Netto!D3 -> Billmed Sp. z o.o. Siedziba: ul. Krypska 24/1, 04-082 Warszawa | E3: =Netto!E3 -> Medicus Sp. z o.o.S.K.A. Siedziba: ul. Browarowa 21, 43-100 Tychy | F3: =Netto!F3 -> Mercator Medical S.A. Siedziba: ul. Modrzejewskiej 30, 31-327 Kraków | G3: =Netto!G3 -> SORIMEX Sp. z o.o. Sp.k. Siedziba: ul. Równinna 25 87-100 Toruń | H3: =Netto!H3 -> Skamex Spółka z ograniczoną odpowiedzialnością Siedziba: ul. Częstochowska 38/52, 93-121 Łódź | I3: =Netto!I3 -> ZARYS International Group sp. z o.o. sp.k. Siedziba: ul. Pod Borem 18, 41-808 Zabrze
B4: Nr oferty | C4: 1 | D4: 2 | E4: 3 | F4: 4 | G4: 5 | H4: 6 | I4: 7
A5: Kwota jaką Zamawiający zamierza przeznaczyć na sfinansowanie zamówienia (brutto) | B5: Nr części postępowania | C5: brutto | D5: brutto | E5: brutto | F5: brutto | G5: brutto | H5: brutto | I5: brutto | J5: Wartość oferty najkorzystniejszej cenowo (wartość brutto)
A6: 4320 | B6: 1 | J6: brak ofert
A7: 1944 | B7: 2 | I7: 1749.6 | J7: =MIN(C7:I7) -> 1749.6
A8: 9180 | B8: 3 | C8: 9180 | J8: =MIN(C8:I8) -> 9180
A9: 648 | B9: 4 | E9: 583.2 | J9: =MIN(C9:I9) -> 583.2
A10: 1080 | B10: 5 | J10: brak ofert
A11: 3477.6 | B11: 6 | J11: brak ofert
A12: 2354.4 | B12: 7 | J12: brak ofert
A13: 5400 | B13: 8 | J13: brak ofert
A14: 1555.2 | B14: 9 | D14: 1749.6 | J14: =MIN(C14:I14) -> 1749.6
A15: 19440 | B15: 10 | D15: 17280 | J15: =MIN(C15:I15) -> 17280
A16: 84348 | B16: 11 | F16: 57704.4 | H16: 57488.4 | J16: =MIN(C16:I16) -> 57488.4
A17: 21168 | B17: 12 | F17: 19051.2 | G17: 19807.2 | H17: 23133.6 | J17: =MIN(C17:I17) -> 19051.2
A18: 2430 | B18: 13 | H18: 2160 | J18: =MIN(C18:I18) -> 2160
A19: 1490.4 | B19: 14 | F19: 1425.6 | J19: =MIN(C19:I19) -> 1425.6
A20: 24948 | B20: 15 | J20: brak ofert
A21: =SUM(A6:A20) -> 183783.6
