Workbook
Name __xlfn_BAHTTEXT: #N/A
Name __xlfn_IFERROR: #N/A
Name Excel_BuiltIn__FilterDatabase: Brutto!$A$4:$X$4
Name Excel_BuiltIn__FilterDatabase: Netto!$A$4:$X$4

Sheet Netto
A1: Informacja z otwarcia ofert ZP/15/2023
A3: Nazwy i adresy wykonawców | B3: ASEO PAPER SP. Z O.O. Siedziba: 42-600 TARNOWSKIE GÓRY, UL. CZARNOHUCKA 3 | C3: Balton Sp. z o.o. Siedziba: ul. Nowy Świat 7 m 14, 00-496 Warszawa | D3: BERYL MED POLAND Sp. z o. o. Siedziba: ul. Łopuszańska 36, bud.14C, 02-220 Warszawa | E3: Bialmed Sp. zo.o. Siedziba: ul. Kazimierzowska 46/48/35 02-546 Warszawa | F3: BIAMEDITEK SP. Z O.O. Siedziba: 15-620 BIAŁYSTOK UL. ELEWATORSKA 5 | G3: Em Poland Sp. z o.o. Siedziba: Aleja Piłsudskiego 3, 05-070 Sulejówek | H3: EMED SP. Z O.O. SP. K. Siedziba: ul. Ryżowa 69a, 05-816 Opacz Kolonia | I3: EMPIREUM Piotr Dopieralski Siedziba: ul. Chotomowska 30, 05-110 Jabłonna | J3: Hebu Medical Polska Sp.z o.o. Siedziba: ul. Kobylnicka 2a, 62-080 Sady | K3: Informer med. sp. z o.o. Siedziba: ul. Winogrady 118, 61-626 Poznań | L3: INTERGOS Sp. z o. o. Siedziba: ul. Legionów 55, 43-300 Bielsko-Biała | M3: „Maga-Herba“ Janusz Olszówka Sp. J. Siedziba: ul. Kolejowa 46, 05-870 Błonie | N3: Medela Polska Sp. z o.o. Siedziba: ul. Wybrzeże Gdyńskie 6D, 01-531 Warszawa | O3: MEDICAVERA Sp z o o Dahlhausen Group Siedziba: ul Majowa 2 71-74 Szczecin | P3: Medicom Sp. z o.o. Siedziba: ul. M. Skłodowskiej-Curie 34, 41-819 Zabrze | Q3: POLMIL SP. Z O.O. Siedziba: UL.PRZEMYSŁOWA 8B 85-758 BYDGOSZCZ | R3: Krajowe Towarzystwo Gospodarcze Semigat Spółka Akcyjna Siedziba: ul. Ratuszowa 11 lok. 318, 03-450 Warszawa | S3: Sinmed Sp. z o. o. Siedziba: ul. Graniczna 32B, 44-178 Przyszowice | T3: Sterimed Sp. z o.o. Siedziba: ul. Mała 6 lok. 208, 05-300 Mińsk Mazowiecki | U3: Teleflex Polska Sp. z o.o. Siedziba: ul. Żwirki i Wigury 16A, 02-092 Warszawa | V3: KONSORCJUM: CITONET-SZCZECIN SP. Z O.O. – LIDER, TORUŃSKIE ZAKŁADY MATERIAŁÓW OPATRUNKOWYCH S.A. - CZŁONEK Siedziba: UL. ROLNA 4, 71-730 SZCZECIN – LIDER, UL. ŻÓŁKIEWSKIEGO 20/26, 87-100 TORUŃ - CZŁONEK | W3: VYGON Polska Sp. z o.o. Siedziba: 03-905 Warszawa, ul. Francuska 39/6 | X3: ZARYS International Group Sp. z o. o. Sp. k. Siedziba Ul. Pod Borem 18, 41-808 Zabrze
A4: Nr oferty | B4: 1 | C4: 2 | D4: 3 | E4: 4 | F4: 5 | G4: 6 | H4: 7 | I4: 8 | J4: 9 | K4: 10 | L4: 11 | M4: 12 | N4: 13 | O4: 14 | P4: 15 | Q4: 16 | R4: 17 | S4: 18 | T4: 19 | U4: 20 | V4: 21 | W4: 22 | X4: 23
A5: Nr części postępowania | B5: netto | C5: netto | D5: netto | E5: netto | F5: netto | G5: netto | H5: netto | I5: netto | J5: netto | K5: netto | L5: netto | M5: netto | N5: netto | O5: netto | P5: netto | Q5: netto | R5: netto | S5: netto | T5: netto | U5: netto | V5: netto | W5: netto | X5: netto
A6: 1 | E6: 50050.5
A7: 2 | E7: 53907.5
A8: 3 | E8: 23430
A9: 4 | E9: 14800
A10: 5 | E10: 36796.2
A11: 6 | X11: 618
A12: 7 | X12: 276
A13: 8 | E13: 6970.5
A14: 9 | O14: 5014
A15: 10 | U15: 22300 | W15: 24290
A16: 11 | E16: 267
A17: 12 | C17: 540
A18: 13 | F18: 5063 | S18: 5100 | U18: 5698
A19: 14 | F19: 7118 | S19: 7226
A20: 15
A21: 16 | D21: 2025
A22: 17 | D22: 630 | X22: 830.1
A23: 18
A24: 19 | C24: 4250
A25: 20 | X25: 1720
A26: 21
A27: 22 | X27: 4922
A28: 23 | H28: 3600 | J28: 3480
A29: 24 | E29: 1678 | S29: 3063 | X29: 1662.2
A30: 25 | E30: 6104.5 | X30: 6253.75
A31: 26 | Q31: 1950 | X31: 1772.68
A32: 27 | D32: 630 | E32: 178.5 | F32: 208.2 | X32: 266.4
A33: 28 | X33: 830
A34: 29 | Q34: 5685 | X34: 4154.85
A35: 30 | G35: 18083.22 | X35: 17162.7
A36: 31
A37: 32 | X37: 500.6
A38: 33 | E38: 24404 | L38: 26822 | X38: 26489.8
A39: 34 | B39: 12386 | X39: 10350
A40: 35 | M40: 2875
A41: 36 | B41: 5833.5 | I41: 6300 | R41: 6817.5 | X41: 5085
A42: 37
A43: 38 | N43: 5788
A44: 39 | D44: 9171
A45: 40
A46: 41 | P46: 1325.81 | X46: 1185.1
A47: 42 | K47: 5285 | R47: 5805.7 | T47: 5362
A48: 43 | K48: 875
A49: 44 | K49: 4249 | V49: 4947.51
A50: 45 | K50: 7341 | V50: 5744.39

Sheet Brutto
A1: Informacja z otwarcia ofert ZP/15/2023
A3: Nazwy i adresy wykonawców | B3: =Netto!B3 -> ASEO PAPER SP. Z O.O. Siedziba: 42-600 TARNOWSKIE GÓRY, UL. CZARNOHUCKA 3 | C3: =Netto!C3 -> Balton Sp. z o.o. Siedziba: ul. Nowy Świat 7 m 14, 00-496 Warszawa | D3: =Netto!D3 -> BERYL MED POLAND Sp. z o. o. Siedziba: ul. Łopuszańska 36, bud.14C, 02-220 Warszawa | E3: =Netto!E3 -> Bialmed Sp. zo.o. Siedziba: ul. Kazimierzowska 46/48/35 02-546 Warszawa | F3: =Netto!F3 -> BIAMEDITEK SP. Z O.O. Siedziba: 15-620 BIAŁYSTOK UL. ELEWATORSKA 5 | G3: =Netto!G3 -> Em Poland Sp. z o.o. Siedziba: Aleja Piłsudskiego 3, 05-070 Sulejówek | H3: =Netto!H3 -> EMED SP. Z O.O. SP. K. Siedziba: ul. Ryżowa 69a, 05-816 Opacz Kolonia | I3: =Netto!I3 -> EMPIREUM Piotr Dopieralski Siedziba: ul. Chotomowska 30, 05-110 Jabłonna | ... X3: =Netto!X3 -> ZARYS International Group Sp. z o. o. Sp. k. Siedziba Ul. Pod Borem 18, 41-808 Zabrze
A4: Nr oferty | B4: 1 | C4: 2 | D4: 3 | E4: 4 | F4: 5 | G4: 6 | H4: 7 | I4: 8 | J4: 9 | K4: 10 | L4: 11 | M4: 12 | N4: 13 | O4: 14 | P4: 15 | Q4: 16 | R4: 17 | S4: 18 | T4: 19 | U4: 20 | V4: 21 | W4: 22 | X4: 23
A5: Nr części postępowania | B5: brutto | C5: brutto | D5: brutto | E5: brutto | F5: brutto | G5: brutto | H5: brutto | I5: brutto | J5: brutto | K5: brutto | L5: brutto | M5: brutto | N5: brutto | O5: brutto | P5: brutto | Q5: brutto | R5: brutto | S5: brutto | T5: brutto | U5: brutto | V5: brutto | W5: brutto | X5: brutto
A6: 1 | E6: 54054.54
A7: 2 | E7: 58220.1
A8: 3 | E8: 25304.4
A9: 4 | E9: 15999
A10: 5 | E10: 39739.9
A11: 6 | X11: 667.44
A12: 7 | X12: 298.08
A13: 8 | E13: 7528.14
A14: 9 | O14: 5415.12
A15: 10 | U15: 24084 | W15: 26233.2
A16: 11 | E16: 288.36
A17: 12 | C17: 583.2
A18: 13 | F18: 5468.04 | S18: 5508 | U18: 6153.84
A19: 14 | F19: 7687.44 | S19: 7804.08
A20: 15
A21: 16 | D21: 2187
A22: 17 | D22: 680.4 | X22: 896.51
A23: 18
A24: 19 | C24: 4590
A25: 20 | X25: 1857.6
A26: 21
A27: 22 | X27: 5315.76
A28: 23 | H28: 3888 | J28: 3758.4
A29: 24 | E29: 1812.24 | S29: 3308.04 | X29: 1795.18
A30: 25 | E30: 6592.86 | X30: 6754.05
A31: 26 | Q31: 2106 | X31: 1914.49
A32: 27 | D32: 680.4 | E32: 192.78 | F32: 224.86 | X32: 287.71
A33: 28 | X33: 896.4
A34: 29 | Q34: 6337.8 | X34: 4487.24
A35: 30 | G35: 19659.21 | X35: 18742.72
A36: 31
A37: 32 | X37: 540.65
A38: 33 | E38: 30016.92 | L38: 32991.06 | X38: 32582.45
A39: 34 | B39: 13376.88 | X39: 11178
A40: 35 | M40: 3105
A41: 36 | B41: 6300.18 | I41: 6804 | R41: 7362.9 | X41: 5491.8
A42: 37
A43: 38 | N43: 6251.04
A44: 39 | D44: 9904.68
A45: 40
A46: 41 | P46: 1431.87 | X46: 1378.62
A47: 42 | K47: 6500.55 | R47: 7141.02 | T47: 6595.26
A48: 43 | K48: 1076.25
A49: 44 | K49: 4588.92 | V49: 5343.3
A50: 45 | K50: 7928.28 | V50: 6203.94
